BEGIN:VCALENDAR
VERSION:2.0
PRODID:-//Culture Encounters - ECPv6.15.20//NONSGML v1.0//EN
CALSCALE:GREGORIAN
METHOD:PUBLISH
X-ORIGINAL-URL:https://cultureencounters.org
X-WR-CALDESC:Events for Culture Encounters
REFRESH-INTERVAL;VALUE=DURATION:PT1H
X-Robots-Tag:noindex
X-PUBLISHED-TTL:PT1H
BEGIN:VTIMEZONE
TZID:America/Halifax
BEGIN:DAYLIGHT
TZOFFSETFROM:-0400
TZOFFSETTO:-0300
TZNAME:ADT
DTSTART:20240310T060000
END:DAYLIGHT
BEGIN:STANDARD
TZOFFSETFROM:-0300
TZOFFSETTO:-0400
TZNAME:AST
DTSTART:20241103T050000
END:STANDARD
BEGIN:DAYLIGHT
TZOFFSETFROM:-0400
TZOFFSETTO:-0300
TZNAME:ADT
DTSTART:20250309T060000
END:DAYLIGHT
BEGIN:STANDARD
TZOFFSETFROM:-0300
TZOFFSETTO:-0400
TZNAME:AST
DTSTART:20251102T050000
END:STANDARD
BEGIN:DAYLIGHT
TZOFFSETFROM:-0400
TZOFFSETTO:-0300
TZNAME:ADT
DTSTART:20260308T060000
END:DAYLIGHT
BEGIN:STANDARD
TZOFFSETFROM:-0300
TZOFFSETTO:-0400
TZNAME:AST
DTSTART:20261101T050000
END:STANDARD
END:VTIMEZONE
BEGIN:VEVENT
DTSTART;TZID=America/Halifax:20250920T110000
DTEND;TZID=America/Halifax:20250920T170000
DTSTAMP:20260424T092748
CREATED:20250620T225913Z
LAST-MODIFIED:20251029T012721Z
UID:3708-1758366000-1758387600@cultureencounters.org
SUMMARY:Richmond International Dance Festival​
DESCRIPTION:Get ready for a one-of-a-kind celebration of global rhythm\, color\, and connection! Hosted by Culture Encounters\, this is Richmond’s only multicultural dance festival—and it’s free and open to all. \nEnjoy free outdoor dance workshops for all ages\, led by master instructors from Ghana\, China\, the Philippines\, and more. Catch mini performances throughout the day\, explore international flavors\, and shop from a vibrant mix of cultural vendors. \nThen step inside the Recreation Center to experience cultural exhibits\, music videos\, and short films that offer a deeper look into traditions from around the world. \nThe day ends in spectacular fashion with a Parade of Cultures—a joyful procession that honors heritage\, identity\, and the beauty of diversity. \nCome curious. Leave inspired.\nDance\, taste\, and discover the world at Deep Run Park!
URL:https://cultureencounters.org/event/richmond-international-dance-festival/
LOCATION:Deep Run Park & Recreational Center\, 9900 Ridgefield Parkway\, Richmond\,\, VA\, 23233\, United States
ORGANIZER;CN="Culture Encounters":MAILTO:connect@cultureecounters.org
END:VEVENT
END:VCALENDAR