BEGIN:VCALENDAR
VERSION:2.0
PRODID:-//Culture Encounters - ECPv6.15.20//NONSGML v1.0//EN
CALSCALE:GREGORIAN
METHOD:PUBLISH
X-WR-CALNAME:Culture Encounters
X-ORIGINAL-URL:https://cultureencounters.org
X-WR-CALDESC:Events for Culture Encounters
REFRESH-INTERVAL;VALUE=DURATION:PT1H
X-Robots-Tag:noindex
X-PUBLISHED-TTL:PT1H
BEGIN:VTIMEZONE
TZID:UTC
BEGIN:STANDARD
TZOFFSETFROM:+0000
TZOFFSETTO:+0000
TZNAME:UTC
DTSTART:20240101T000000
END:STANDARD
END:VTIMEZONE
BEGIN:VEVENT
DTSTART;TZID=UTC:20250704T153000
DTEND;TZID=UTC:20250704T163000
DTSTAMP:20260424T122353
CREATED:20250618T073133Z
LAST-MODIFIED:20250620T233753Z
UID:3648-1751643000-1751646600@cultureencounters.org
SUMMARY:CultureFest Fridays at the Children’s Museum of Richmond
DESCRIPTION:Discover the richness of global cultures with CultureFest Fridays\, a signature initiative in partnership with the Children’s Museum of Richmond! Each month showcases a new culture\, providing a fun and family-friendly way to expand kids’ horizons and connect with the world. \nHappening on the 1st and 3rd Fridays of every month\, this fun and educational experience is designed for families and children to explore the world through performance and interactive activities. \n  \n✨ What to Expect: \n\nLive Cultural Performances: Enjoy engaging performances that showcase the music\, dance\, and traditions of the featured culture.\nInteractive Sessions: Dive deeper into each culture through hands-on\, interactive experiences that bring global traditions to life.\n\n📅 When & Where: \n\n1st Fridays\, 3:30-4:30 pm: Children’s Museum of Richmond – Downtown Location\n3rd Fridays\, 3:30-4:30 pm: Children’s Museum of Richmond – Chesterfield Location\n\n  \nCheck out upcoming performers: https://www.childrensmuseumofrichmond.org/events/ \n 
URL:https://cultureencounters.org/event/culturefest-fridays-at-the-childrens-museum-of-richmond/
LOCATION:The Children’s Museum of Richmond\, 2626 West Broad St.\, Richmond\, VA\, United States
ATTACH;FMTTYPE=image/webp:https://cultureencounters.org/wp-content/uploads/2025/06/Culturefest-at-cmor-600x540-1.webp
ORGANIZER;CN="Culture Encounters":MAILTO:connect@cultureecounters.org
END:VEVENT
END:VCALENDAR